BEGIN:VCALENDAR
VERSION:2.0
PRODID:-//id.bleeding.org//NONSGML kigkonsult.se iCalcreator 2.30.10//
CALSCALE:GREGORIAN
METHOD:PUBLISH
UID:a0384c1b-8d65-4ee1-84d7-7f34329d729c
X-WR-CALDESC:Save the Date!
X-WR-RELCALID:71e40f07afec88ec3ae9f53dbffc0c45
X-WR-TIMEZONE:America/Denver
BEGIN:VTIMEZONE
TZID:America/Denver
BEGIN:STANDARD
TZNAME:MST
DTSTART:20261101T020000
TZOFFSETFROM:-0600
TZOFFSETTO:-0700
RDATE:20271107T020000
END:STANDARD
BEGIN:DAYLIGHT
TZNAME:MDT
DTSTART:20260308T020000
TZOFFSETFROM:-0700
TZOFFSETTO:-0600
RDATE:20270314T020000
RDATE:20280312T020000
END:DAYLIGHT
END:VTIMEZONE
BEGIN:VEVENT
UID:5fcdfd4f-0e90-4823-b8e0-5963348cb0f6
DTSTAMP:20260421T104156Z
DESCRIPTION:Save the Date!
DTSTART;TZID=America/Denver:20261215T080000
DTEND;TZID=America/Denver:20261215T090000
LOCATION:
SUMMARY:Virtual Ladies Night
END:VEVENT
END:VCALENDAR
