BEGIN:VCALENDAR
VERSION:2.0
PRODID:-//id.bleeding.org//NONSGML kigkonsult.se iCalcreator 2.30.10//
CALSCALE:GREGORIAN
METHOD:PUBLISH
UID:d5da40de-f9cb-4bc3-99f9-2751649c241b
X-WR-CALDESC:Save the Date!
X-WR-RELCALID:25cca36a41fff6f47f29f16d1ec1e64d
X-WR-TIMEZONE:America/Denver
BEGIN:VTIMEZONE
TZID:America/Denver
BEGIN:STANDARD
TZNAME:MST
DTSTART:20261101T020000
TZOFFSETFROM:-0600
TZOFFSETTO:-0700
RDATE:20271107T020000
END:STANDARD
BEGIN:DAYLIGHT
TZNAME:MDT
DTSTART:20260308T020000
TZOFFSETFROM:-0700
TZOFFSETTO:-0600
RDATE:20270314T020000
RDATE:20280312T020000
END:DAYLIGHT
END:VTIMEZONE
BEGIN:VEVENT
UID:ccdcdfbc-2617-4cb1-bb09-e207f2a01280
DTSTAMP:20260421T104843Z
DESCRIPTION:Save the Date!
DTSTART;TZID=America/Denver:20261201T040000
DTEND;TZID=America/Denver:20261201T040001
LOCATION:Meridian\, ID
SUMMARY:Holiday Dinner
END:VEVENT
END:VCALENDAR
