BEGIN:VCALENDAR
VERSION:2.0
PRODID:-//id.bleeding.org//NONSGML kigkonsult.se iCalcreator 2.30.10//
CALSCALE:GREGORIAN
METHOD:PUBLISH
UID:a5f1696b-04f0-4259-b3be-723a39abd449
X-WR-CALDESC:Save the Date!
X-WR-RELCALID:55644e935595c6cc14d0237ae15a9bf0
X-WR-TIMEZONE:America/Denver
BEGIN:VTIMEZONE
TZID:America/Denver
BEGIN:STANDARD
TZNAME:MST
DTSTART:20261101T020000
TZOFFSETFROM:-0600
TZOFFSETTO:-0700
RDATE:20271107T020000
END:STANDARD
BEGIN:DAYLIGHT
TZNAME:MDT
DTSTART:20260308T020000
TZOFFSETFROM:-0700
TZOFFSETTO:-0600
RDATE:20270314T020000
RDATE:20280312T020000
END:DAYLIGHT
END:VTIMEZONE
BEGIN:VEVENT
UID:e03ff110-225c-4c6a-bd4c-7ac4e7ee8195
DTSTAMP:20260421T104523Z
DESCRIPTION:Save the Date!
DTSTART;TZID=America/Denver:20261107T040000
DTEND;TZID=America/Denver:20261107T040001
LOCATION:Meridian\, ID
SUMMARY:Teen Day Camp
END:VEVENT
END:VCALENDAR
