BEGIN:VCALENDAR
VERSION:2.0
PRODID:-//id.bleeding.org//NONSGML kigkonsult.se iCalcreator 2.30.10//
CALSCALE:GREGORIAN
METHOD:PUBLISH
UID:bfe56669-f1ce-4a0b-a47c-1b754f2375ad
X-WR-CALDESC:Save the Date!
X-WR-RELCALID:a1f6b6642f1d921411b9b1b68bc3aaed
X-WR-TIMEZONE:America/Denver
BEGIN:VTIMEZONE
TZID:America/Denver
BEGIN:STANDARD
TZNAME:MST
DTSTART:20261101T020000
TZOFFSETFROM:-0600
TZOFFSETTO:-0700
RDATE:20271107T020000
END:STANDARD
BEGIN:DAYLIGHT
TZNAME:MDT
DTSTART:20260308T020000
TZOFFSETFROM:-0700
TZOFFSETTO:-0600
RDATE:20270314T020000
RDATE:20280312T020000
END:DAYLIGHT
END:VTIMEZONE
BEGIN:VEVENT
UID:cdd0e31c-7182-4340-a413-a880eb5072cb
DTSTAMP:20260421T104445Z
DESCRIPTION:Save the Date!
DTSTART;TZID=America/Denver:20261106T040000
DTEND;TZID=America/Denver:20261106T040001
LOCATION:Boise\, ID
SUMMARY:Advocacy Program
END:VEVENT
END:VCALENDAR
