BEGIN:VCALENDAR
VERSION:2.0
PRODID:-//id.bleeding.org//NONSGML kigkonsult.se iCalcreator 2.30.10//
CALSCALE:GREGORIAN
METHOD:PUBLISH
UID:90b1c4c9-506a-4d71-8618-2a402f7cea06
X-WR-CALDESC:Save the Date!
X-WR-RELCALID:2065e14f109945def87f674a1bd2df84
X-WR-TIMEZONE:America/Denver
BEGIN:VTIMEZONE
TZID:America/Denver
BEGIN:STANDARD
TZNAME:MST
DTSTART:20251102T020000
TZOFFSETFROM:-0600
TZOFFSETTO:-0700
RDATE:20261101T020000
RDATE:20271107T020000
END:STANDARD
BEGIN:DAYLIGHT
TZNAME:MDT
DTSTART:20260308T020000
TZOFFSETFROM:-0700
TZOFFSETTO:-0600
RDATE:20270314T020000
RDATE:20280312T020000
END:DAYLIGHT
END:VTIMEZONE
BEGIN:VEVENT
UID:53730c7b-f26f-434c-9d13-a29b204c53d5
DTSTAMP:20260421T104435Z
DESCRIPTION:Save the Date!
DTSTART;TZID=America/Denver:20261012T040000
DTEND;TZID=America/Denver:20261012T040001
LOCATION:Twin Falls\, ID
SUMMARY:Education Dinner: Twin Falls
END:VEVENT
END:VCALENDAR
