BEGIN:VCALENDAR
VERSION:2.0
PRODID:-//id.bleeding.org//NONSGML kigkonsult.se iCalcreator 2.30.10//
CALSCALE:GREGORIAN
METHOD:PUBLISH
UID:43c5a0f4-9a66-4c91-9b45-98e43642809d
X-WR-CALDESC:This event will bring men affected with bleeding disorders tog
 ether from across the entire northwest\, including chapters from Alaska\, 
 Washington\, Oregon\, Montana\, Wyoming\, and of course\, Idaho. Stay tune
 d for more details.
X-WR-RELCALID:7869d5723c8939cabf01800a93d17bfe
X-WR-TIMEZONE:America/Denver
BEGIN:VTIMEZONE
TZID:America/Denver
BEGIN:STANDARD
TZNAME:MST
DTSTART:20251102T020000
TZOFFSETFROM:-0600
TZOFFSETTO:-0700
RDATE:20261101T020000
RDATE:20271107T020000
END:STANDARD
BEGIN:DAYLIGHT
TZNAME:MDT
DTSTART:20260308T020000
TZOFFSETFROM:-0700
TZOFFSETTO:-0600
RDATE:20270314T020000
RDATE:20280312T020000
END:DAYLIGHT
END:VTIMEZONE
BEGIN:VEVENT
UID:c17f8120-63e3-4b2c-bda4-cdfac58b243b
DTSTAMP:20260421T104436Z
DESCRIPTION:This event will bring men affected with bleeding disorders toge
 ther from across the entire northwest\, including chapters from Alaska\, W
 ashington\, Oregon\, Montana\, Wyoming\, and of course\, Idaho. Stay tuned
  for more details.
DTSTART;TZID=America/Denver:20261002T040000
DTEND;TZID=America/Denver:20261004T040001
LOCATION:Portland\, OR
SUMMARY:Northwest Men's Summit
END:VEVENT
END:VCALENDAR
