BEGIN:VCALENDAR
VERSION:2.0
PRODID:-//id.bleeding.org//NONSGML kigkonsult.se iCalcreator 2.30.10//
CALSCALE:GREGORIAN
METHOD:PUBLISH
UID:1143fa86-911c-4fdc-99b4-355084b1b944
X-WR-CALDESC:Save the Date!
X-WR-RELCALID:86f6b8c2be9ea54b2de81e9072db39bf
X-WR-TIMEZONE:America/Denver
BEGIN:VTIMEZONE
TZID:America/Denver
BEGIN:STANDARD
TZNAME:MST
DTSTART:20251102T020000
TZOFFSETFROM:-0600
TZOFFSETTO:-0700
RDATE:20261101T020000
RDATE:20271107T020000
END:STANDARD
BEGIN:DAYLIGHT
TZNAME:MDT
DTSTART:20260308T020000
TZOFFSETFROM:-0700
TZOFFSETTO:-0600
RDATE:20270314T020000
RDATE:20280312T020000
END:DAYLIGHT
END:VTIMEZONE
BEGIN:VEVENT
UID:eb6c5716-e08d-4076-a6cd-5dc7b297681b
DTSTAMP:20260421T104516Z
DESCRIPTION:Save the Date!
DTSTART;TZID=America/Denver:20260919T040000
DTEND;TZID=America/Denver:20260920T040001
LOCATION:Buhl\, ID
SUMMARY:Fall Adult Retreat
END:VEVENT
END:VCALENDAR
