BEGIN:VCALENDAR
VERSION:2.0
PRODID:-//id.bleeding.org//NONSGML kigkonsult.se iCalcreator 2.30.10//
CALSCALE:GREGORIAN
METHOD:PUBLISH
UID:3b8639fd-3b9f-4d20-a2e2-0b018351b0f5
X-WR-CALDESC:Save the Date!
X-WR-RELCALID:0e6452d96552fef5b49b401839813452
X-WR-TIMEZONE:America/Denver
BEGIN:VTIMEZONE
TZID:America/Denver
BEGIN:STANDARD
TZNAME:MST
DTSTART:20251102T020000
TZOFFSETFROM:-0600
TZOFFSETTO:-0700
RDATE:20261101T020000
RDATE:20271107T020000
END:STANDARD
BEGIN:DAYLIGHT
TZNAME:MDT
DTSTART:20260308T020000
TZOFFSETFROM:-0700
TZOFFSETTO:-0600
RDATE:20270314T020000
END:DAYLIGHT
END:VTIMEZONE
BEGIN:VEVENT
UID:3d67c1df-7e24-45f7-9784-576e77e38706
DTSTAMP:20260421T104247Z
DESCRIPTION:Save the Date!
DTSTART;TZID=America/Denver:20260901T040000
DTEND;TZID=America/Denver:20260901T040001
LOCATION:Caldwell\, ID
SUMMARY:VWD Night
END:VEVENT
END:VCALENDAR
