BEGIN:VCALENDAR
VERSION:2.0
PRODID:-//id.bleeding.org//NONSGML kigkonsult.se iCalcreator 2.30.10//
CALSCALE:GREGORIAN
METHOD:PUBLISH
UID:b51b3980-bad3-4bb1-91bb-b4b58cbd9e2b
X-WR-CALDESC:Save the Date!
X-WR-RELCALID:5fa4d74bb904436d0212949f13ba24d8
X-WR-TIMEZONE:America/Denver
BEGIN:VTIMEZONE
TZID:America/Denver
BEGIN:STANDARD
TZNAME:MST
DTSTART:20251102T020000
TZOFFSETFROM:-0600
TZOFFSETTO:-0700
RDATE:20261101T020000
RDATE:20271107T020000
END:STANDARD
BEGIN:DAYLIGHT
TZNAME:MDT
DTSTART:20260308T020000
TZOFFSETFROM:-0700
TZOFFSETTO:-0600
RDATE:20270314T020000
END:DAYLIGHT
END:VTIMEZONE
BEGIN:VEVENT
UID:e70b71af-7ae3-4e90-876d-36c3f17111ec
DTSTAMP:20260421T104523Z
DESCRIPTION:Save the Date!
DTSTART;TZID=America/Denver:20260725T040000
DTEND;TZID=America/Denver:20260725T040001
LOCATION:7699 W Spectrum St\, Boise\, ID 83709 US
SUMMARY:Educational Day
END:VEVENT
END:VCALENDAR
