BEGIN:VCALENDAR
VERSION:2.0
PRODID:-//id.bleeding.org//NONSGML kigkonsult.se iCalcreator 2.30.10//
CALSCALE:GREGORIAN
METHOD:PUBLISH
UID:f0ee5956-9172-4806-8d56-ad7b4476f38d
X-WR-CALDESC:Save the Date!
X-WR-RELCALID:06b795424f21210697186f3937bc531d
X-WR-TIMEZONE:America/Denver
BEGIN:VTIMEZONE
TZID:America/Denver
BEGIN:STANDARD
TZNAME:MST
DTSTART:20251102T020000
TZOFFSETFROM:-0600
TZOFFSETTO:-0700
RDATE:20261101T020000
RDATE:20271107T020000
END:STANDARD
BEGIN:DAYLIGHT
TZNAME:MDT
DTSTART:20260308T020000
TZOFFSETFROM:-0700
TZOFFSETTO:-0600
RDATE:20270314T020000
END:DAYLIGHT
END:VTIMEZONE
BEGIN:VEVENT
UID:7ac5c094-e41a-4637-bc6c-2751b31685c5
DTSTAMP:20260421T104843Z
DESCRIPTION:Save the Date!
DTSTART;TZID=America/Denver:20260713T040000
DTEND;TZID=America/Denver:20260713T040001
LOCATION:Meridian\, ID
SUMMARY:Education Dinner + Top Golf
END:VEVENT
END:VCALENDAR
