BEGIN:VCALENDAR
VERSION:2.0
PRODID:-//id.bleeding.org//NONSGML kigkonsult.se iCalcreator 2.30.10//
CALSCALE:GREGORIAN
METHOD:PUBLISH
UID:bea52349-5ee7-467a-81b1-a4ad389ce2af
X-WR-CALDESC:This year's camp theme is a mystery...More details to come!
X-WR-RELCALID:2cc963dfbf87de217c32089e93ec83af
X-WR-TIMEZONE:America/Denver
BEGIN:VTIMEZONE
TZID:America/Denver
BEGIN:STANDARD
TZNAME:MST
DTSTART:20251102T020000
TZOFFSETFROM:-0600
TZOFFSETTO:-0700
RDATE:20261101T020000
RDATE:20271107T020000
END:STANDARD
BEGIN:DAYLIGHT
TZNAME:MDT
DTSTART:20260308T020000
TZOFFSETFROM:-0700
TZOFFSETTO:-0600
RDATE:20270314T020000
END:DAYLIGHT
END:VTIMEZONE
BEGIN:VEVENT
UID:03b7feaf-485b-450a-9d84-dbcceca8154c
DTSTAMP:20260421T135620Z
DESCRIPTION:This year's camp theme is a mystery...More details to come!
DTSTART;TZID=America/Denver:20260625T040000
DTEND;TZID=America/Denver:20260627T040001
LOCATION:Sawtooth Campground\, ID
SUMMARY:Camp Red Sunrise
END:VEVENT
END:VCALENDAR
