BEGIN:VCALENDAR
VERSION:2.0
PRODID:-//id.bleeding.org//NONSGML kigkonsult.se iCalcreator 2.30.10//
CALSCALE:GREGORIAN
METHOD:PUBLISH
UID:7f0f6595-74d5-4092-baba-01334259cdbb
X-WR-CALDESC:Join us for an educational presentation and dinner hosted by C
 SL Behring. \nAfter we will enjoy the Idaho Stampede Friday Night event ho
 sted by InfucareRX
X-WR-RELCALID:0f34e80b55fd6007a3a403cfb3160706
X-WR-TIMEZONE:America/Denver
BEGIN:VTIMEZONE
TZID:America/Denver
BEGIN:STANDARD
TZNAME:MST
DTSTART:20251102T020000
TZOFFSETFROM:-0600
TZOFFSETTO:-0700
RDATE:20261101T020000
RDATE:20271107T020000
END:STANDARD
BEGIN:DAYLIGHT
TZNAME:MDT
DTSTART:20260308T020000
TZOFFSETFROM:-0700
TZOFFSETTO:-0600
RDATE:20270314T020000
END:DAYLIGHT
END:VTIMEZONE
BEGIN:VEVENT
UID:4019e1d0-595f-41a6-ae9d-a2b54c0801cb
DTSTAMP:20260420T183119Z
DESCRIPTION:Join us for an educational presentation and dinner hosted by CS
 L Behring. \nAfter we will enjoy the Idaho Stampede Friday Night event hos
 ted by InfucareRX
DTSTART;TZID=America/Denver:20260619T040000
DTEND;TZID=America/Denver:20260619T040001
LOCATION:16114 Idaho Center Blvd\, Nampa\, ID 83687 US
SUMMARY:Education Dinner + Rodeo
END:VEVENT
END:VCALENDAR
