BEGIN:VCALENDAR
VERSION:2.0
PRODID:-//id.bleeding.org//NONSGML kigkonsult.se iCalcreator 2.30.10//
CALSCALE:GREGORIAN
METHOD:PUBLISH
UID:3012d780-5b45-4644-87ef-620543ef62a1
X-WR-CALDESC:Join us for an educational dinner the night before the Unite W
 alk thanks to our friends at Pfizer.
X-WR-RELCALID:dff70eb70f559b73f35ef68dc777f9d8
X-WR-TIMEZONE:America/Denver
BEGIN:VTIMEZONE
TZID:America/Denver
BEGIN:STANDARD
TZNAME:MST
DTSTART:20251102T020000
TZOFFSETFROM:-0600
TZOFFSETTO:-0700
RDATE:20261101T020000
RDATE:20271107T020000
END:STANDARD
BEGIN:DAYLIGHT
TZNAME:MDT
DTSTART:20260308T020000
TZOFFSETFROM:-0700
TZOFFSETTO:-0600
RDATE:20270314T020000
END:DAYLIGHT
END:VTIMEZONE
BEGIN:VEVENT
UID:756571f5-6586-4351-9b48-7cb1bd30a918
DTSTAMP:20260421T104435Z
DESCRIPTION:Join us for an educational dinner the night before the Unite Wa
 lk thanks to our friends at Pfizer.
DTSTART;TZID=America/Denver:20260515T183000
DTEND;TZID=America/Denver:20260515T200000
LOCATION:913 W River St\, Boise\, ID 83702 US
SUMMARY:Education Dinner: Meridian
END:VEVENT
END:VCALENDAR
